BEGIN:VCALENDAR
VERSION:2.0
PRODID:-//wp-events-plugin.com//7.2.3.1//EN
BEGIN:VEVENT
UID:246@ashevillesystema.com
DTSTART;TZID=America/New_York:20260711T120000
DTEND;TZID=America/New_York:20260711T160000
DTSTAMP:20260116T003125Z
URL:https://ashevillesystema.com/events/martial-arts-first-aid-kit-worksho
 p-july-2026/
SUMMARY:Martial Arts First Aid Kit Workshop
DESCRIPTION:These 4-hour hands-on workshops are designed specifically for m
 artial artists who want to recover faster\, regain range of motion\, and 
 keep training for years to come.
ATTACH;FMTTYPE=image/jpeg:https://ashevillesystema.com/wp-content/uploads/
 2025/10/MAFAK-logo-1.png
CATEGORIES:All Seminars,Marital Arts First Aid Kit (MAFAK)
LOCATION:Asheville Systema @ Sovereignty Lab\, 4 Locust Grove Road\, Weaver
 ville\, NC\, 28787\, South Eastern United States\, United States
X-APPLE-STRUCTURED-LOCATION;VALUE=URI;X-ADDRESS=4 Locust Grove Road\, Weave
 rville\, NC\, 28787\, South Eastern United States\, United States;X-APPLE-
 RADIUS=100;X-TITLE=Asheville Systema @ Sovereignty Lab:geo:0,0
END:VEVENT
BEGIN:VTIMEZONE
TZID:America/New_York
X-LIC-LOCATION:America/New_York
BEGIN:DAYLIGHT
DTSTART:20260308T030000
TZOFFSETFROM:-0500
TZOFFSETTO:-0400
TZNAME:EDT
END:DAYLIGHT
END:VTIMEZONE
END:VCALENDAR