BEGIN:VCALENDAR
VERSION:2.0
PRODID:-//wp-events-plugin.com//7.2.3.1//EN
BEGIN:VEVENT
UID:250@ashevillesystema.com
DTSTART;TZID=America/New_York:20260515T000000
DTEND;TZID=America/New_York:20260517T000000
DTSTAMP:20260407T183905Z
URL:https://ashevillesystema.com/events/norbert-tannert-movement-from-prin
 ciple-to-practice-realism/
SUMMARY:Norbert Tannert: Movement\, From Principle to Practice (Realism)
DESCRIPTION:Norbert is the founder of Systema Bonn\, Germany\,  a 22 year 
 special forces veteran\, and SWAT instructor.  This seminar will focus on
  practical movement to convert real situations into opportunities to be sa
 fe. 
ATTACH;FMTTYPE=image/jpeg:https://ashevillesystema.com/wp-content/uploads/
 2026/04/Norbert-1.jpg
CATEGORIES:Affiliate Systema Seminars,All Seminars
END:VEVENT
BEGIN:VTIMEZONE
TZID:America/New_York
X-LIC-LOCATION:America/New_York
BEGIN:DAYLIGHT
DTSTART:20260308T030000
TZOFFSETFROM:-0500
TZOFFSETTO:-0400
TZNAME:EDT
END:DAYLIGHT
END:VTIMEZONE
END:VCALENDAR